BEGIN:VCALENDAR
VERSION:2.0
PRODID:-//wp-events-plugin.com//6.4.7.3//EN
BEGIN:VEVENT
UID:3@stoca.org
DTSTART:20240818T084500Z
DTEND:20240818T110000Z
DTSTAMP:20240809T023314Z
URL:https://www.stoca.org/events/sunday-prayer-meeting-2/
SUMMARY:Sunday Prayer Meeting
DESCRIPTION:Prayer Meeting Every Sunday
END:VEVENT
END:VCALENDAR